BEGIN:VCALENDAR
PRODID:-//Pixl8//Eventfolio//EN
VERSION:2.0
X-WR-TIMEZONE:Europe/London
CALSCALE:GREGORIAN
METHOD:PUBLISH
CLASS:PUBLIC
BEGIN:VTIMEZONE
TZID:Europe/London
LAST-MODIFIED:20260306T231828Z
TZURL:https://www.tzurl.org/zoneinfo-outlook/Europe/London
X-LIC-LOCATION:Europe/London
BEGIN:DAYLIGHT
TZNAME:BST
TZOFFSETFROM:+0000
TZOFFSETTO:+0100
DTSTART:19700329T010000
RRULE:FREQ=YEARLY;BYMONTH=3;BYDAY=-1SU
END:DAYLIGHT
BEGIN:STANDARD
TZNAME:GMT
TZOFFSETFROM:+0100
TZOFFSETTO:+0000
DTSTART:19701025T020000
RRULE:FREQ=YEARLY;BYMONTH=10;BYDAY=-1SU
END:STANDARD
END:VTIMEZONE
BEGIN:VEVENT
DTSTART;TZID=Europe/London:20241215T183000
DTEND;TZID=Europe/London:20241217T160000
DTSTAMP:20260424T205753Z
UID:{D1D63819-4A6A-4B52-BC41B5AA43AB946B}
LOCATION:Warwick\, UK
SUMMARY:Associations UK Congress
DESCRIPTION:Meet us at this leading two-day conference for associations, societies and federations.\n
 \n
 Event details: https://pixl8.com/en/insights/event-calendar/associations-uk-congress.html
PRIORITY:1
END:VEVENT
END:VCALENDAR