BEGIN:VCALENDAR
PRODID:-//Pixl8//Eventfolio//EN
VERSION:2.0
X-WR-TIMEZONE:America/New_York
CALSCALE:GREGORIAN
METHOD:PUBLISH
CLASS:PUBLIC
BEGIN:VTIMEZONE
TZID:America/New_York
LAST-MODIFIED:20260306T231828Z
TZURL:https://www.tzurl.org/zoneinfo-outlook/America/New_York
X-LIC-LOCATION:America/New_York
BEGIN:DAYLIGHT
TZNAME:EDT
TZOFFSETFROM:-0500
TZOFFSETTO:-0400
DTSTART:19700308T020000
RRULE:FREQ=YEARLY;BYMONTH=3;BYDAY=2SU
END:DAYLIGHT
BEGIN:STANDARD
TZNAME:EST
TZOFFSETFROM:-0400
TZOFFSETTO:-0500
DTSTART:19701101T020000
RRULE:FREQ=YEARLY;BYMONTH=11;BYDAY=1SU
END:STANDARD
END:VTIMEZONE
BEGIN:VEVENT
DTSTART;TZID=America/New_York:20230613T090000
DTEND;TZID=America/New_York:20230615T180000
DTSTAMP:20260422T112007Z
UID:{7FC57D59-B61F-4AED-AE776091BA685EB6}
LOCATION:Chicago\, USA
SUMMARY:AMS Fest - Chicago
DESCRIPTION:Pixl8 Group are demonstrating all-in-one platform ReadyMembership at this leading exhibition for association management software.\n
 \n
 Event details: https://pixl8.com/en/insights/event-calendar/ams-fest-chicago.html
PRIORITY:1
END:VEVENT
END:VCALENDAR